BEGIN:VCALENDAR
VERSION:2.0
PRODID:-//TYPO3/NONSGML Calendarize//EN
BEGIN:VEVENT
UID:calendarize-willkommen-bei-unserem-kinderklassen-projekt-20260524
DTSTAMP:20260421T145043Z
DTSTART:20260524T130000Z
DTEND:20260524T150000Z
SUMMARY:Willkommen bei unserem Kinderklassen-Projekt
DESCRIPTION:Wir glauben\, dass ein gutes Miteinander bei jedem Einzelnen b
 eginnt – und dass die Kindheit eine ganz besondere Zeit ist\, um wichtig
 e Werte fürs Leben zu entdecken.
X-ALT-DESC;FMTTYPE=text/html:<p>Wir glauben\, dass ein gutes Miteinander b
 ei jedem Einzelnen beginnt – und dass die Kindheit eine ganz besondere Z
 eit ist\, um wichtige Werte fürs Leben zu entdecken.</p>
LOCATION:Stadtteilzentrum Schöneberg
END:VEVENT
END:VCALENDAR
