BEGIN:VCALENDAR
VERSION:2.0
PRODID:-//TYPO3/NONSGML Calendarize//EN
BEGIN:VEVENT
UID:calendarize-sturzpraevention-stuhlyoga-20260617
DTSTAMP:20260421T162622Z
DTSTART:20260617T123000Z
DTEND:20260617T133000Z
SUMMARY:Sturzprävention & Stuhlyoga
DESCRIPTION:Jeden Mittwoch von 14:30 bis 15:30 Uhr bieten wir Ihnen im Sta
 dtteilzentrum Schöneberg Sturzprävention & Stuhlyoga an.
X-ALT-DESC;FMTTYPE=text/html:<p>Jeden Mittwoch von 14:30 bis 15:30 Uhr bie
 ten wir Ihnen im Stadtteilzentrum Schöneberg Sturzprävention &amp\; Stuh
 lyoga an.</p>
LOCATION:Stadtteilzentrum Schöneberg
END:VEVENT
END:VCALENDAR
