BEGIN:VCALENDAR
VERSION:2.0
PRODID:-//TYPO3/NONSGML Calendarize//EN
BEGIN:VEVENT
UID:calendarize-filmabend-von-dingen-von-menschen-und-vom-weitergehen
DTSTAMP:20260421T133624Z
DTSTART:20260424T160000Z
SUMMARY:Filmabend: Von Dingen\, von Menschen und vom Weitergehen
DESCRIPTION:Ein besonderer Filmabend im Stadtteilzentrum Schöneberg lädt
  dazu ein\, sich auf eine bewegende Reise durch Erinnerungen\, Verlust und
  das Weitergehen einzulassen.
X-ALT-DESC;FMTTYPE=text/html:<p>Ein besonderer Filmabend im Stadtteilzentr
 um Schöneberg lädt dazu ein\, sich auf eine bewegende Reise durch Erinne
 rungen\, Verlust und das Weitergehen einzulassen.</p>
LOCATION:Baptisten Schöneberg
END:VEVENT
END:VCALENDAR
